BEGIN:VCALENDAR
VERSION:2.0
PRODID:-//Macon Centreplex - ECPv6.15.20//NONSGML v1.0//EN
CALSCALE:GREGORIAN
METHOD:PUBLISH
X-ORIGINAL-URL:https://www.maconcentreplex.org
X-WR-CALDESC:Events for Macon Centreplex
REFRESH-INTERVAL;VALUE=DURATION:PT1H
X-Robots-Tag:noindex
X-PUBLISHED-TTL:PT1H
BEGIN:VTIMEZONE
TZID:America/New_York
BEGIN:DAYLIGHT
TZOFFSETFROM:-0500
TZOFFSETTO:-0400
TZNAME:EDT
DTSTART:20250309T070000
END:DAYLIGHT
BEGIN:STANDARD
TZOFFSETFROM:-0400
TZOFFSETTO:-0500
TZNAME:EST
DTSTART:20251102T060000
END:STANDARD
BEGIN:DAYLIGHT
TZOFFSETFROM:-0500
TZOFFSETTO:-0400
TZNAME:EDT
DTSTART:20260308T070000
END:DAYLIGHT
BEGIN:STANDARD
TZOFFSETFROM:-0400
TZOFFSETTO:-0500
TZNAME:EST
DTSTART:20261101T060000
END:STANDARD
BEGIN:DAYLIGHT
TZOFFSETFROM:-0500
TZOFFSETTO:-0400
TZNAME:EDT
DTSTART:20270314T070000
END:DAYLIGHT
BEGIN:STANDARD
TZOFFSETFROM:-0400
TZOFFSETTO:-0500
TZNAME:EST
DTSTART:20271107T060000
END:STANDARD
END:VTIMEZONE
BEGIN:VEVENT
DTSTART;TZID=America/New_York:20260320T184500
DTEND;TZID=America/New_York:20260320T184500
DTSTAMP:20260422T060125
CREATED:20250722T130034Z
LAST-MODIFIED:20251216T211435Z
UID:10001368-1774032300-1774032300@www.maconcentreplex.org
SUMMARY:Joe Bonamassa
DESCRIPTION:Joe Bonamassa returns to Macon with his powerful live show on March 20\, 2026 with special guest\, Christone “Kingfish” Ingram. \nShow: 6:45PM \nFive-time Grammy nominee Joe Bonamassa is widely recognized as one of today’s premier live performers. His high-energy shows have become a defining part of his career and a favorite among music lovers worldwide. Hailed internationally as one of the greatest guitarists of his generation\, Bonamassa holds a record-breaking 29 #1 Billboard Blues Albums. Backed by a powerhouse band of legendary musicians\, his setlist blends new material with fan-favorite classics spanning across his career. \nHailed by Rolling Stone as “a rare 21st century guitar hero and the undisputed future of the blues\,” Christone Kingfish Ingram expands his signature sound blending blues with rock\, funk\, soul\, and R&B. At just 26\, the GRAMMY® winner delivers his most ambitious work yet\, showcasing his breathtaking guitar mastery along with the growing depth of his songwriting and vocals. \nLAWN SEATING: There is no lawn for this event. \nVALET & PREFERRED PARKING: To purchase valet or preferred parking\, click here. \nWEATHER POLICY: The Atrium Health Amphitheater is an outdoor venue and we monitor weather conditions hourly on event days. All events are rain or shine. Venue & event promoter’s policy is no refunds or exchanges in the event of rain\, event delay and/or evacuation. Refunds will only be given if the event is canceled in its entirety. Raincoats and ponchos are allowed. \nTickets will be mobile only. Saving your ticket to your phone wallet [Apple Wallet or Google Pay] will help with pulling up your ticket to scan promptly. Patrons can also pull up their tickets within the Ticketmaster app. You can purchase tickets for Atrium Health Amphitheater events at the Macon Coliseum Box Office on Tuesday\, Thursday\, and Friday from 10 a.m. to 5 p.m. Box office hours vary on the day of an event. Please call 478-751-9232 to verify hours.
URL:https://www.maconcentreplex.org/event/joe-bonamassa-2/
LOCATION:Atrium Health Amphitheater\, 3657 Eisenhower Parkway\, Macon\, GA\, 31206\, United States
CATEGORIES:Amphitheater Event
ATTACH;FMTTYPE=image/jpeg:https://www.maconcentreplex.org/wp-content/uploads/2025/07/1920x1080-Macon_-GA_3_20_26.jpg
END:VEVENT
END:VCALENDAR