BEGIN:VCALENDAR
VERSION:2.0
PRODID:-//Macon Centreplex - ECPv6.15.20//NONSGML v1.0//EN
CALSCALE:GREGORIAN
METHOD:PUBLISH
X-ORIGINAL-URL:https://www.maconcentreplex.org
X-WR-CALDESC:Events for Macon Centreplex
REFRESH-INTERVAL;VALUE=DURATION:PT1H
X-Robots-Tag:noindex
X-PUBLISHED-TTL:PT1H
BEGIN:VTIMEZONE
TZID:America/New_York
BEGIN:DAYLIGHT
TZOFFSETFROM:-0500
TZOFFSETTO:-0400
TZNAME:EDT
DTSTART:20230312T070000
END:DAYLIGHT
BEGIN:STANDARD
TZOFFSETFROM:-0400
TZOFFSETTO:-0500
TZNAME:EST
DTSTART:20231105T060000
END:STANDARD
BEGIN:DAYLIGHT
TZOFFSETFROM:-0500
TZOFFSETTO:-0400
TZNAME:EDT
DTSTART:20240310T070000
END:DAYLIGHT
BEGIN:STANDARD
TZOFFSETFROM:-0400
TZOFFSETTO:-0500
TZNAME:EST
DTSTART:20241103T060000
END:STANDARD
BEGIN:DAYLIGHT
TZOFFSETFROM:-0500
TZOFFSETTO:-0400
TZNAME:EDT
DTSTART:20250309T070000
END:DAYLIGHT
BEGIN:STANDARD
TZOFFSETFROM:-0400
TZOFFSETTO:-0500
TZNAME:EST
DTSTART:20251102T060000
END:STANDARD
END:VTIMEZONE
BEGIN:VEVENT
DTSTART;TZID=America/New_York:20240501T193000
DTEND;TZID=America/New_York:20240501T193000
DTSTAMP:20260419T081020
CREATED:20240307T164649Z
LAST-MODIFIED:20240421T211801Z
UID:10001221-1714591800-1714591800@www.maconcentreplex.org
SUMMARY:JJ Grey & Mofro
DESCRIPTION:Moonhanger Group presents JJ Grey & Mofro at the Macon City Auditorium May 1\, 2024.  Show support provided by Cedric Burnside. Tickets start at $38 plus applicable taxes and fees. \n\n\n\nDoors: 6:30PM | Show: 7:30PM \nTickets will be mobile only.  Saving your ticket to your phone wallet [Apple Wallet or Google Pay] will help with loading your ticket to scan promptly. Patrons can also pull up their tickets within the Ticketmaster app. \nTicketmaster is the verified ticketing provider for Macon Centreplex venues. The Macon Centreplex is not responsible for tickets purchased from third-party sites. Please use caution when purchasing from unauthorized sellers.
URL:https://www.maconcentreplex.org/event/jj-grey-mofro/
LOCATION:Macon City Auditorium\, 415 1st Street\, Macon\, GA\, 31201\, United States
CATEGORIES:Auditorium Event
ATTACH;FMTTYPE=image/png:https://www.maconcentreplex.org/wp-content/uploads/2024/03/jj-grey-1920x1080-1.png
END:VEVENT
BEGIN:VEVENT
DTSTART;TZID=America/New_York:20240505T193000
DTEND;TZID=America/New_York:20240505T193000
DTSTAMP:20260419T081020
CREATED:20240307T164919Z
LAST-MODIFIED:20240307T164919Z
UID:10001222-1714937400-1714937400@www.maconcentreplex.org
SUMMARY:Bored Teachers
DESCRIPTION:Bored Teachers: We Can’t Make This Stuff Up! Comedy Tour comes to the Macon City Auditorium on Sunday\, May 5\, 2024. \nThe #1 teacher-entertainment platform in the world\, Bored Teachers\, presents the funniest teacher-comedians in the world all on one stage. Their hilarious skits about the life of teachers inside and outside of the classroom have amassed over 1 BILLION views on the internet\, and they’ve all joined comic forces for a night of laughter you do not want to miss. \nDoors: 6:30PM | Show: 7:30PM \nTickets will be mobile only. Learn more about Mobile Tickets. Saving your ticket to your phone wallet [Apple Wallet or Google Pay] will help with loading your ticket to scan promptly. Patrons can also pull up their tickets within the Ticketmaster app. Screenshots will no longer work as a new barcode security feature is in place. Learn more about Safetix. \nTicketmaster is the verified ticketing provider for Macon Centreplex venues. The Macon Centreplex is not responsible for tickets purchased from third-party sites. Please use caution when purchasing from unauthorized sellers.
URL:https://www.maconcentreplex.org/event/bored-teachers/
LOCATION:Macon City Auditorium\, 415 1st Street\, Macon\, GA\, 31201\, United States
CATEGORIES:Auditorium Event
ATTACH;FMTTYPE=image/jpeg:https://www.maconcentreplex.org/wp-content/uploads/2024/03/BoredTeachers_GENERIC_1920x1080.jpg
END:VEVENT
BEGIN:VEVENT
DTSTART;TZID=America/New_York:20240507T193000
DTEND;TZID=America/New_York:20240507T193000
DTSTAMP:20260419T081020
CREATED:20240307T165036Z
LAST-MODIFIED:20240307T165036Z
UID:10001223-1715110200-1715110200@www.maconcentreplex.org
SUMMARY:Bonnie Raitt
DESCRIPTION:Bonnie Raitt Just Like That… Tour 2024 comes to the Macon City Auditorium with special guest Maia Sharp on Tuesday\, May 7\, 2024. \nDoors: 6:30PM | Show: 7:30PM \nTickets will be mobile only. Learn more about Mobile Tickets. Saving your ticket to your phone wallet [Apple Wallet or Google Pay] will help with loading your ticket to scan promptly. Patrons can also pull up their tickets within the Ticketmaster app. Screenshots will no longer work as a new barcode security feature is in place. Learn more about Safetix. \nTicketmaster is the verified ticketing provider for Macon Centreplex venues. The Macon Centreplex is not responsible for tickets purchased from third-party sites. Please use caution when purchasing from unauthorized sellers. \nIn light of COVID-19\, we want to assure our valued guests that their safety and well-being remain our top priority. While masks and vaccinations are not mandatory\, we highly encourage and respect the choice of our staff\, guests\, and patrons to wear face masks or coverings if they feel more comfortable doing so. We have taken comprehensive measures to maintain a clean and hygienic environment within our premises. Rest assured\, we continue to monitor the situation closely and adhere to all recommended guidelines to provide a secure space for everyone. Your cooperation and understanding during these times are deeply appreciated.
URL:https://www.maconcentreplex.org/event/bonnie-raitt/
LOCATION:Macon City Auditorium\, 415 1st Street\, Macon\, GA\, 31201\, United States
CATEGORIES:Auditorium Event
ATTACH;FMTTYPE=image/jpeg:https://www.maconcentreplex.org/wp-content/uploads/2024/03/BonnieRaitt_1920x1005.jpg
END:VEVENT
END:VCALENDAR