BEGIN:VCALENDAR
VERSION:2.0
PRODID:-//Macon Centreplex - ECPv6.15.20//NONSGML v1.0//EN
CALSCALE:GREGORIAN
METHOD:PUBLISH
X-ORIGINAL-URL:https://www.maconcentreplex.org
X-WR-CALDESC:Events for Macon Centreplex
REFRESH-INTERVAL;VALUE=DURATION:PT1H
X-Robots-Tag:noindex
X-PUBLISHED-TTL:PT1H
BEGIN:VTIMEZONE
TZID:America/New_York
BEGIN:DAYLIGHT
TZOFFSETFROM:-0500
TZOFFSETTO:-0400
TZNAME:EDT
DTSTART:20250309T070000
END:DAYLIGHT
BEGIN:STANDARD
TZOFFSETFROM:-0400
TZOFFSETTO:-0500
TZNAME:EST
DTSTART:20251102T060000
END:STANDARD
BEGIN:DAYLIGHT
TZOFFSETFROM:-0500
TZOFFSETTO:-0400
TZNAME:EDT
DTSTART:20260308T070000
END:DAYLIGHT
BEGIN:STANDARD
TZOFFSETFROM:-0400
TZOFFSETTO:-0500
TZNAME:EST
DTSTART:20261101T060000
END:STANDARD
BEGIN:DAYLIGHT
TZOFFSETFROM:-0500
TZOFFSETTO:-0400
TZNAME:EDT
DTSTART:20270314T070000
END:DAYLIGHT
BEGIN:STANDARD
TZOFFSETFROM:-0400
TZOFFSETTO:-0500
TZNAME:EST
DTSTART:20271107T060000
END:STANDARD
END:VTIMEZONE
BEGIN:VEVENT
DTSTART;TZID=America/New_York:20260815T180000
DTEND;TZID=America/New_York:20260815T180000
DTSTAMP:20260424T061305
CREATED:20251103T150032Z
LAST-MODIFIED:20251103T150747Z
UID:10001426-1786816800-1786816800@www.maconcentreplex.org
SUMMARY:The Wiggles Tree of Wisdom Spectacular
DESCRIPTION:Join in this all-ages celebration featuring timeless hits and sing-along moments from all your favorites including Rock-A-Bye Your Bear\, Fruit Salad Yummy Yummy and Hot Potato! Don’t miss The Wiggles Tree of Wisdom Spectacular coming to the Macon City Auditorium August 15th. \nShow: 6:00PM \nTickets will be mobile only. Saving your ticket to your phone wallet [Apple Wallet or Google Pay] will help with loading your ticket to scan promptly. Patrons can also pull up their tickets within the Ticketmaster app. Ticketmaster is the verified ticketing provider for Macon Centreplex venues. The Macon Centreplex is not responsible for tickets purchased from third-party sites. Please use caution when purchasing from unauthorized sellers.
URL:https://www.maconcentreplex.org/event/2026-the-wiggles-tree-of-wisdom-spectacular/
LOCATION:Macon City Auditorium\, 415 1st Street\, Macon\, GA\, 31201\, United States
CATEGORIES:Auditorium Event
ATTACH;FMTTYPE=image/png:https://www.maconcentreplex.org/wp-content/uploads/2025/11/The-Wiggles-DNU-Presentation.png
END:VEVENT
END:VCALENDAR