BEGIN:VCALENDAR
VERSION:2.0
PRODID:-//Macon Centreplex - ECPv6.15.20//NONSGML v1.0//EN
CALSCALE:GREGORIAN
METHOD:PUBLISH
X-WR-CALNAME:Macon Centreplex
X-ORIGINAL-URL:https://www.maconcentreplex.org
X-WR-CALDESC:Events for Macon Centreplex
REFRESH-INTERVAL;VALUE=DURATION:PT1H
X-Robots-Tag:noindex
X-PUBLISHED-TTL:PT1H
BEGIN:VTIMEZONE
TZID:America/New_York
BEGIN:DAYLIGHT
TZOFFSETFROM:-0500
TZOFFSETTO:-0400
TZNAME:EDT
DTSTART:20240310T070000
END:DAYLIGHT
BEGIN:STANDARD
TZOFFSETFROM:-0400
TZOFFSETTO:-0500
TZNAME:EST
DTSTART:20241103T060000
END:STANDARD
BEGIN:DAYLIGHT
TZOFFSETFROM:-0500
TZOFFSETTO:-0400
TZNAME:EDT
DTSTART:20250309T070000
END:DAYLIGHT
BEGIN:STANDARD
TZOFFSETFROM:-0400
TZOFFSETTO:-0500
TZNAME:EST
DTSTART:20251102T060000
END:STANDARD
BEGIN:DAYLIGHT
TZOFFSETFROM:-0500
TZOFFSETTO:-0400
TZNAME:EDT
DTSTART:20260308T070000
END:DAYLIGHT
BEGIN:STANDARD
TZOFFSETFROM:-0400
TZOFFSETTO:-0500
TZNAME:EST
DTSTART:20261101T060000
END:STANDARD
END:VTIMEZONE
BEGIN:VEVENT
DTSTART;TZID=America/New_York:20251025T180000
DTEND;TZID=America/New_York:20251025T180000
DTSTAMP:20260422T063013
CREATED:20250826T183734Z
LAST-MODIFIED:20250826T183734Z
UID:10001374-1761415200-1761415200@www.maconcentreplex.org
SUMMARY:Macon Mayhem vs. Huntsville Havoc
DESCRIPTION:Doors: 5:00PM | Puck Drops: 6:00PM \nParking is $5/vehicle and can be purchased in advance online with your ticket purchase or in person at the parking booth upon arrival for the event. \nTickets will be mobile only. Learn more about Mobile Tickets. Saving your ticket to your phone wallet [Apple Wallet or Google Pay] will help with pulling up your ticket to scan promptly. Patrons can also pull up their tickets within the Ticketmaster app. Screenshots will no longer work as a new barcode security feature is in place. \nTicketmaster is the verified ticketing provider for Macon Centreplex venues. The Macon Centreplex is not responsible for tickets purchased from third-party sites. Please use caution when purchasing from
URL:https://www.maconcentreplex.org/event/macon-mayhem-vs-huntsville-havoc-3/
LOCATION:Macon Coliseum\, 200 Coliseum Drive\, Macon\, GA\, 31217\, United States
CATEGORIES:Coliseum Event
ATTACH;FMTTYPE=image/png:https://www.maconcentreplex.org/wp-content/uploads/2025/08/Macon-Mayhem-1920x1080-1.png
END:VEVENT
END:VCALENDAR