BEGIN:VCALENDAR
VERSION:2.0
PRODID:-//Macon Centreplex - ECPv6.15.20//NONSGML v1.0//EN
CALSCALE:GREGORIAN
METHOD:PUBLISH
X-ORIGINAL-URL:https://www.maconcentreplex.org
X-WR-CALDESC:Events for Macon Centreplex
REFRESH-INTERVAL;VALUE=DURATION:PT1H
X-Robots-Tag:noindex
X-PUBLISHED-TTL:PT1H
BEGIN:VTIMEZONE
TZID:America/New_York
BEGIN:DAYLIGHT
TZOFFSETFROM:-0500
TZOFFSETTO:-0400
TZNAME:EDT
DTSTART:20250309T070000
END:DAYLIGHT
BEGIN:STANDARD
TZOFFSETFROM:-0400
TZOFFSETTO:-0500
TZNAME:EST
DTSTART:20251102T060000
END:STANDARD
BEGIN:DAYLIGHT
TZOFFSETFROM:-0500
TZOFFSETTO:-0400
TZNAME:EDT
DTSTART:20260308T070000
END:DAYLIGHT
BEGIN:STANDARD
TZOFFSETFROM:-0400
TZOFFSETTO:-0500
TZNAME:EST
DTSTART:20261101T060000
END:STANDARD
BEGIN:DAYLIGHT
TZOFFSETFROM:-0500
TZOFFSETTO:-0400
TZNAME:EDT
DTSTART:20270314T070000
END:DAYLIGHT
BEGIN:STANDARD
TZOFFSETFROM:-0400
TZOFFSETTO:-0500
TZNAME:EST
DTSTART:20271107T060000
END:STANDARD
END:VTIMEZONE
BEGIN:VEVENT
DTSTART;TZID=America/New_York:20260102T190000
DTEND;TZID=America/New_York:20260102T190000
DTSTAMP:20260420T051140
CREATED:20250826T191839Z
LAST-MODIFIED:20250826T191839Z
UID:10001386-1767380400-1767380400@www.maconcentreplex.org
SUMMARY:Macon Mayhem vs. Fayetteville Marksman
DESCRIPTION:Doors: 6:00PM | Puck Drops: 7:00PM \nParking is $5/vehicle and can be purchased in advance online with your ticket purchase or in person at the parking booth upon arrival for the event. \nTickets will be mobile only. Learn more about Mobile Tickets. Saving your ticket to your phone wallet [Apple Wallet or Google Pay] will help with pulling up your ticket to scan promptly. Patrons can also pull up their tickets within the Ticketmaster app. Screenshots will no longer work as a new barcode security feature is in place. \nTicketmaster is the verified ticketing provider for Macon Centreplex venues. The Macon Centreplex is not responsible for tickets purchased from third-party sites. Please use caution when purchasing from third parties.
URL:https://www.maconcentreplex.org/event/macon-mayhem-vs-fayetteville-marksman/
LOCATION:Macon Coliseum\, 200 Coliseum Drive\, Macon\, GA\, 31217\, United States
CATEGORIES:Coliseum Event
ATTACH;FMTTYPE=image/png:https://www.maconcentreplex.org/wp-content/uploads/2025/08/Macon-Mayhem-1920x1080-1.png
END:VEVENT
BEGIN:VEVENT
DTSTART;TZID=America/New_York:20260103T180000
DTEND;TZID=America/New_York:20260103T180000
DTSTAMP:20260420T051140
CREATED:20250826T191949Z
LAST-MODIFIED:20250826T192318Z
UID:10001389-1767463200-1767463200@www.maconcentreplex.org
SUMMARY:Macon Mayhem vs. Fayetteville Marksman
DESCRIPTION:Doors: 5:00PM | Puck Drops: 6:00PM \nParking is $5/vehicle and can be purchased in advance online with your ticket purchase or in person at the parking booth upon arrival for the event. \nTickets will be mobile only. Learn more about Mobile Tickets. Saving your ticket to your phone wallet [Apple Wallet or Google Pay] will help with pulling up your ticket to scan promptly. Patrons can also pull up their tickets within the Ticketmaster app. Screenshots will no longer work as a new barcode security feature is in place. \nTicketmaster is the verified ticketing provider for Macon Centreplex venues. The Macon Centreplex is not responsible for tickets purchased from third-party sites. Please use caution when purchasing from third parties.
URL:https://www.maconcentreplex.org/event/macon-mayhem-vs-fayetteville-marksman-2/
LOCATION:Macon Coliseum\, 200 Coliseum Drive\, Macon\, GA\, 31217\, United States
CATEGORIES:Coliseum Event
ATTACH;FMTTYPE=image/png:https://www.maconcentreplex.org/wp-content/uploads/2025/08/Macon-Mayhem-1920x1080-1.png
END:VEVENT
BEGIN:VEVENT
DTSTART;TZID=America/New_York:20260110T193000
DTEND;TZID=America/New_York:20260110T193000
DTSTAMP:20260420T051140
CREATED:20251111T143413Z
LAST-MODIFIED:20251111T143413Z
UID:10001437-1768073400-1768073400@www.maconcentreplex.org
SUMMARY:Walker Land and Cattle's Rodeo Macon
DESCRIPTION:Hold on tight\, Macon. The Walker Land and Cattle’s Rodeo Macon is coming into town. \nShow: 7:30PM \nParking is $10/vehicle and can be purchased in advance online with your ticket purchase or in person at the parking booth upon arrival for the event. \nTickets will be mobile only. Saving your ticket to your phone wallet [Apple Wallet or Google Pay] will help pull up your ticket to scan promptly.  Ticketmaster is the verified ticketing provider for Macon Centreplex venues. The Macon Centreplex is not responsible for tickets purchased from third-party sites. Please use caution when buying from unauthorized sellers.
URL:https://www.maconcentreplex.org/event/walker-land-and-cattles-rodeo-macon/
LOCATION:Macon Coliseum\, 200 Coliseum Drive\, Macon\, GA\, 31217\, United States
CATEGORIES:Coliseum Event
ATTACH;FMTTYPE=image/png:https://www.maconcentreplex.org/wp-content/uploads/2025/11/Untitled-design-29.png
END:VEVENT
BEGIN:VEVENT
DTSTART;TZID=America/New_York:20260114T180000
DTEND;TZID=America/New_York:20260114T180000
DTSTAMP:20260420T051140
CREATED:20250923T140015Z
LAST-MODIFIED:20251208T164644Z
UID:10001414-1768413600-1768413600@www.maconcentreplex.org
SUMMARY:CANCELED - Gabby's Dollhouse Live! Presented by Walmart
DESCRIPTION:We regret to inform you that the Gabby‘s Dollhouse Live scheduled for Wednesday\, January  14\, 2026 at the Macon City Auditorium has been cancelled. \nIf you purchased tickets on Ticketmaster.com or in person at the box office with a credit or debit card\, your original method of payment will automatically be refunded. If you purchased tickets in person at the Box Office with cash\, please visit us at the Macon Coliseum on Tuesdays\, Thursdays\, and Fridays from 10AM – 5PM for your cash refund. \nIf you purchased your tickets through a third-party ticketing agency\, please reach out to the third- party agency directly for refund inquiries. If you transferred or gifted your tickets to another person\, we ask you to please inform the recipient of the cancellation.
URL:https://www.maconcentreplex.org/event/gabbys-dollhouse/
LOCATION:Macon City Auditorium\, 415 1st Street\, Macon\, GA\, 31201\, United States
CATEGORIES:Auditorium Event
ATTACH;FMTTYPE=image/jpeg:https://www.maconcentreplex.org/wp-content/uploads/2025/09/0114-MaconGA_GDHL_2026_1920x1080_OOH.jpg
END:VEVENT
BEGIN:VEVENT
DTSTART;TZID=America/New_York:20260116T190000
DTEND;TZID=America/New_York:20260116T190000
DTSTAMP:20260420T051140
CREATED:20250826T192057Z
LAST-MODIFIED:20250826T192533Z
UID:10001390-1768590000-1768590000@www.maconcentreplex.org
SUMMARY:Macon Mayhem vs. Birmingham Bulls
DESCRIPTION:Doors: 6:00PM | Puck Drops: 7:00PM \nParking is $5/vehicle and can be purchased in advance online with your ticket purchase or in person at the parking booth upon arrival for the event. \nTickets will be mobile only. Learn more about Mobile Tickets. Saving your ticket to your phone wallet [Apple Wallet or Google Pay] will help with pulling up your ticket to scan promptly. Patrons can also pull up their tickets within the Ticketmaster app. Screenshots will no longer work as a new barcode security feature is in place. \nTicketmaster is the verified ticketing provider for Macon Centreplex venues. The Macon Centreplex is not responsible for tickets purchased from third-party sites. Please use caution when purchasing from third parties.
URL:https://www.maconcentreplex.org/event/macon-mayhem-vs-birmingham-bulls-3/
LOCATION:Macon Coliseum\, 200 Coliseum Drive\, Macon\, GA\, 31217\, United States
CATEGORIES:Coliseum Event
ATTACH;FMTTYPE=image/png:https://www.maconcentreplex.org/wp-content/uploads/2025/08/Macon-Mayhem-1920x1080-1.png
END:VEVENT
BEGIN:VEVENT
DTSTART;TZID=America/New_York:20260117T180000
DTEND;TZID=America/New_York:20260117T180000
DTSTAMP:20260420T051140
CREATED:20250826T192212Z
LAST-MODIFIED:20250826T192433Z
UID:10001392-1768672800-1768672800@www.maconcentreplex.org
SUMMARY:Macon Mayhem vs. Birmingham Bulls
DESCRIPTION:Doors: 5:00PM | Puck Drops: 6:00PM \nParking is $5/vehicle and can be purchased in advance online with your ticket purchase or in person at the parking booth upon arrival for the event. \nTickets will be mobile only. Learn more about Mobile Tickets. Saving your ticket to your phone wallet [Apple Wallet or Google Pay] will help with pulling up your ticket to scan promptly. Patrons can also pull up their tickets within the Ticketmaster app. Screenshots will no longer work as a new barcode security feature is in place. \nTicketmaster is the verified ticketing provider for Macon Centreplex venues. The Macon Centreplex is not responsible for tickets purchased from third-party sites. Please use caution when purchasing from third parties.
URL:https://www.maconcentreplex.org/event/macon-mayhem-vs-birmingham-bulls-4/
LOCATION:Macon Coliseum\, 200 Coliseum Drive\, Macon\, GA\, 31217\, United States
CATEGORIES:Coliseum Event
ATTACH;FMTTYPE=image/png:https://www.maconcentreplex.org/wp-content/uploads/2025/08/Macon-Mayhem-1920x1080-1.png
END:VEVENT
BEGIN:VEVENT
DTSTART;TZID=America/New_York:20260120T193000
DTEND;TZID=America/New_York:20260120T193000
DTSTAMP:20260420T051140
CREATED:20251027T135953Z
LAST-MODIFIED:20260112T165931Z
UID:10001425-1768937400-1768937400@www.maconcentreplex.org
SUMMARY:Larry The Cable Guy
DESCRIPTION:Larry The Cable Guy’s Git-R-Done Tour is heading to Macon City Auditorium on Tuesday\, January 20\, 2026. \nTickets will be mobile only. Saving your ticket to your phone wallet [Apple Wallet or Google Pay] will help with loading your ticket to scan promptly. Patrons can also pull up their tickets within the Ticketmaster app. Ticketmaster is the verified ticketing provider for Macon Centreplex venues. The Macon Centreplex is not responsible for tickets purchased from third-party sites. Please use caution when purchasing from unauthorized sellers.
URL:https://www.maconcentreplex.org/event/larry-the-cable-guy/
LOCATION:Macon City Auditorium\, 415 1st Street\, Macon\, GA\, 31201\, United States
CATEGORIES:Auditorium Event
ATTACH;FMTTYPE=image/png:https://www.maconcentreplex.org/wp-content/uploads/2025/10/1.20-Larry-The-Cable-Guy-1920x1080-1.png
END:VEVENT
BEGIN:VEVENT
DTSTART;TZID=America/New_York:20260123T190000
DTEND;TZID=America/New_York:20260123T190000
DTSTAMP:20260420T051140
CREATED:20250826T192958Z
LAST-MODIFIED:20250826T192958Z
UID:10001393-1769194800-1769194800@www.maconcentreplex.org
SUMMARY:Macon Mayhem vs. Roanoke Rail Yard Dawgs
DESCRIPTION:Doors: 600PM | Puck Drops: 7:00PM \nParking is $5/vehicle and can be purchased in advance online with your ticket purchase or in person at the parking booth upon arrival for the event. \nTickets will be mobile only. Learn more about Mobile Tickets. Saving your ticket to your phone wallet [Apple Wallet or Google Pay] will help with pulling up your ticket to scan promptly. Patrons can also pull up their tickets within the Ticketmaster app. Screenshots will no longer work as a new barcode security feature is in place. \nTicketmaster is the verified ticketing provider for Macon Centreplex venues. The Macon Centreplex is not responsible for tickets purchased from third-party sites. Please use caution when purchasing from third parties.
URL:https://www.maconcentreplex.org/event/macon-mayhem-vs-roanoke-rail-yard-dawgs-9/
LOCATION:Macon Coliseum\, 200 Coliseum Drive\, Macon\, GA\, 31217\, United States
CATEGORIES:Coliseum Event
ATTACH;FMTTYPE=image/png:https://www.maconcentreplex.org/wp-content/uploads/2025/08/Macon-Mayhem-1920x1080-1.png
END:VEVENT
BEGIN:VEVENT
DTSTART;TZID=America/New_York:20260124T180000
DTEND;TZID=America/New_York:20260124T180000
DTSTAMP:20260420T051140
CREATED:20250826T193110Z
LAST-MODIFIED:20250826T195155Z
UID:10001394-1769277600-1769277600@www.maconcentreplex.org
SUMMARY:Macon Mayhem vs. Roanoke Rail Yard Dawgs
DESCRIPTION:Doors: 5:00PM | Puck Drops: 6:00PM \nParking is $5/vehicle and can be purchased in advance online with your ticket purchase or in person at the parking booth upon arrival for the event. \nTickets will be mobile only. Learn more about Mobile Tickets. Saving your ticket to your phone wallet [Apple Wallet or Google Pay] will help with pulling up your ticket to scan promptly. Patrons can also pull up their tickets within the Ticketmaster app. Screenshots will no longer work as a new barcode security feature is in place. \nTicketmaster is the verified ticketing provider for Macon Centreplex venues. The Macon Centreplex is not responsible for tickets purchased from third-party sites. Please use caution when purchasing from third parties.
URL:https://www.maconcentreplex.org/event/macon-mayhem-vs-roanoke-rail-yard-dawgs-10/
LOCATION:Macon Coliseum\, 200 Coliseum Drive\, Macon\, GA\, 31217\, United States
CATEGORIES:Coliseum Event
ATTACH;FMTTYPE=image/png:https://www.maconcentreplex.org/wp-content/uploads/2025/08/Macon-Mayhem-1920x1080-1.png
END:VEVENT
BEGIN:VEVENT
DTSTART;TZID=America/New_York:20260131T200000
DTEND;TZID=America/New_York:20260131T200000
DTSTAMP:20260420T051140
CREATED:20260126T125421Z
LAST-MODIFIED:20260126T130018Z
UID:10001452-1769889600-1769889600@www.maconcentreplex.org
SUMMARY:All That Jazz
DESCRIPTION:All That Jazz\, The Tubman African American Museum 29th Annual Fundraiser\, returns to the Macon City Auditorium January 31st! Purchase balcony seats today! \nDoors: 6PM | Show Start: 8PM \nTickets will be mobile only. Saving your ticket to your phone wallet [Apple Wallet or Google Pay] will help with loading your ticket to scan promptly. Patrons can also pull up their tickets within the Ticketmaster app. Ticketmaster is the verified ticketing provider for Macon Centreplex venues. The Macon Centreplex is not responsible for tickets purchased from third-party sites. Please use caution when purchasing from unauthorized sellers.
URL:https://www.maconcentreplex.org/event/all-that-jazz/
LOCATION:Macon City Auditorium\, 415 1st Street\, Macon\, GA\, 31201\, United States
CATEGORIES:Auditorium Event
ATTACH;FMTTYPE=image/png:https://www.maconcentreplex.org/wp-content/uploads/2026/01/All-That-Jazz-2026.png
END:VEVENT
END:VCALENDAR