BEGIN:VCALENDAR
VERSION:2.0
PRODID:-//Macon Centreplex - ECPv6.15.20//NONSGML v1.0//EN
CALSCALE:GREGORIAN
METHOD:PUBLISH
X-WR-CALNAME:Macon Centreplex
X-ORIGINAL-URL:https://www.maconcentreplex.org
X-WR-CALDESC:Events for Macon Centreplex
REFRESH-INTERVAL;VALUE=DURATION:PT1H
X-Robots-Tag:noindex
X-PUBLISHED-TTL:PT1H
BEGIN:VTIMEZONE
TZID:America/New_York
BEGIN:DAYLIGHT
TZOFFSETFROM:-0500
TZOFFSETTO:-0400
TZNAME:EDT
DTSTART:20250309T070000
END:DAYLIGHT
BEGIN:STANDARD
TZOFFSETFROM:-0400
TZOFFSETTO:-0500
TZNAME:EST
DTSTART:20251102T060000
END:STANDARD
BEGIN:DAYLIGHT
TZOFFSETFROM:-0500
TZOFFSETTO:-0400
TZNAME:EDT
DTSTART:20260308T070000
END:DAYLIGHT
BEGIN:STANDARD
TZOFFSETFROM:-0400
TZOFFSETTO:-0500
TZNAME:EST
DTSTART:20261101T060000
END:STANDARD
BEGIN:DAYLIGHT
TZOFFSETFROM:-0500
TZOFFSETTO:-0400
TZNAME:EDT
DTSTART:20270314T070000
END:DAYLIGHT
BEGIN:STANDARD
TZOFFSETFROM:-0400
TZOFFSETTO:-0500
TZNAME:EST
DTSTART:20271107T060000
END:STANDARD
END:VTIMEZONE
BEGIN:VEVENT
DTSTART;TZID=America/New_York:20260131T200000
DTEND;TZID=America/New_York:20260131T200000
DTSTAMP:20260420T051753
CREATED:20260126T125421Z
LAST-MODIFIED:20260126T130018Z
UID:10001452-1769889600-1769889600@www.maconcentreplex.org
SUMMARY:All That Jazz
DESCRIPTION:All That Jazz\, The Tubman African American Museum 29th Annual Fundraiser\, returns to the Macon City Auditorium January 31st! Purchase balcony seats today! \nDoors: 6PM | Show Start: 8PM \nTickets will be mobile only. Saving your ticket to your phone wallet [Apple Wallet or Google Pay] will help with loading your ticket to scan promptly. Patrons can also pull up their tickets within the Ticketmaster app. Ticketmaster is the verified ticketing provider for Macon Centreplex venues. The Macon Centreplex is not responsible for tickets purchased from third-party sites. Please use caution when purchasing from unauthorized sellers.
URL:https://www.maconcentreplex.org/event/all-that-jazz/
LOCATION:Macon City Auditorium\, 415 1st Street\, Macon\, GA\, 31201\, United States
CATEGORIES:Auditorium Event
ATTACH;FMTTYPE=image/png:https://www.maconcentreplex.org/wp-content/uploads/2026/01/All-That-Jazz-2026.png
END:VEVENT
END:VCALENDAR